BEGIN:VCALENDAR
VERSION:2.0
PRODID:Yucca Valley, CA Calendar Creator
METHOD:PUBLISH
BEGIN:VEVENT
DTSTAMP:20260313T143436
DTSTART:20260528T130000
DTEND:20260528T150000
SUMMARY:Watercolor Workshop
DESCRIPTION:<p style="text-align: center;">Work on Watercolor projects at your own pace or follow along with the instructor as she demonstrates watercolor processes and techniques. the instructor provides tips &amp; tricks for students on composition, color use and more! All levels welcome! Participants provide their own materials.&nbsp;Participants must be 18 years and older and must pre- register. </p><p style="text-align: center;">Registration is $5/class. Click&nbsp;<a href="https://secure.rec1.com/CA/yucca-valley-ca/catalog" target="_blank" rel="noopener">here</a>&nbsp;to register.&nbsp;</p>
X-ALT-DESC;FMTTYPE=text/html:<p style="text-align: center;">Work on Watercolor projects at your own pace or follow along with the instructor as she demonstrates watercolor processes and techniques. the instructor provides tips &amp; tricks for students on composition, color use and more! All levels welcome! Participants provide their own materials.&nbsp;Participants must be 18 years and older and must pre- register. </p><p style="text-align: center;">Registration is $5/class. Click&nbsp;<a href="https://secure.rec1.com/CA/yucca-valley-ca/catalog" target="_blank" rel="noopener">here</a>&nbsp;to register.&nbsp;</p>
LOCATION:Yucca Valley Community Center\, 57090 Twentynine Palms Hwy Yucca Valley\, California 92284
CLASS:PUBLIC
END:VEVENT
END:VCALENDAR
