BEGIN:VCALENDAR
VERSION:2.0
PRODID:Yucca Valley, CA Calendar Creator
METHOD:PUBLISH
BEGIN:VEVENT
DTSTAMP:20260313T114329
DTSTART:20260425T100000
DTEND:20260425T140000
SUMMARY:Earth Day Celebration
DESCRIPTION:<text direction="ltr" height="10.024002075195312" lengthadjust="spacingAndGlyphs" textlength="275.0439758300781" x="51.92449951171875" y="-158.97169494628906" data-test="textbox">Join the Hi-Desert Nature Museum and local</text><text direction="ltr" height="10.192001342773438" lengthadjust="spacingAndGlyphs" textlength="288.14795303344727" x="45.442501068115234" y="-142.17169189453125" data-test="textbox">environmental community partners for a day of</text><text direction="ltr" height="10.192001342773438" lengthadjust="spacingAndGlyphs" textlength="316.7149257659912" x="31.190500259399414" y="-125.37168884277344" data-test="textbox">conservation and sustainability education. This free</text><text direction="ltr" height="10.192001342773438" lengthadjust="spacingAndGlyphs" textlength="330.9459228515625" x="24.0364990234375" y="-108.57169342041016" data-test="textbox">event will include hands-on activities for all ages such</text><text direction="ltr" height="10.192001342773438" lengthadjust="spacingAndGlyphs" textlength="313.8379020690918" x="32.59050369262695" y="-91.77169036865234" data-test="textbox">as screeprinting your own upcycled shirt, crafting a</text><text direction="ltr" height="10.024002075195312" lengthadjust="spacingAndGlyphs" textlength="257.41796875" x="61.010498046875" y="-74.97169494628906" data-test="textbox">recycled art project, making a native seed</text><text direction="ltr" height="10.024002075195312" lengthadjust="spacingAndGlyphs" textlength="156.6599884033203" x="110.80851745605469" y="-58.17169952392578" data-test="textbox">bomb and so much more!</text>
X-ALT-DESC;FMTTYPE=text/html:<text direction="ltr" height="10.024002075195312" lengthadjust="spacingAndGlyphs" textlength="275.0439758300781" x="51.92449951171875" y="-158.97169494628906" data-test="textbox">Join the Hi-Desert Nature Museum and local</text><text direction="ltr" height="10.192001342773438" lengthadjust="spacingAndGlyphs" textlength="288.14795303344727" x="45.442501068115234" y="-142.17169189453125" data-test="textbox">environmental community partners for a day of</text><text direction="ltr" height="10.192001342773438" lengthadjust="spacingAndGlyphs" textlength="316.7149257659912" x="31.190500259399414" y="-125.37168884277344" data-test="textbox">conservation and sustainability education. This free</text><text direction="ltr" height="10.192001342773438" lengthadjust="spacingAndGlyphs" textlength="330.9459228515625" x="24.0364990234375" y="-108.57169342041016" data-test="textbox">event will include hands-on activities for all ages such</text><text direction="ltr" height="10.192001342773438" lengthadjust="spacingAndGlyphs" textlength="313.8379020690918" x="32.59050369262695" y="-91.77169036865234" data-test="textbox">as screeprinting your own upcycled shirt, crafting a</text><text direction="ltr" height="10.024002075195312" lengthadjust="spacingAndGlyphs" textlength="257.41796875" x="61.010498046875" y="-74.97169494628906" data-test="textbox">recycled art project, making a native seed</text><text direction="ltr" height="10.024002075195312" lengthadjust="spacingAndGlyphs" textlength="156.6599884033203" x="110.80851745605469" y="-58.17169952392578" data-test="textbox">bomb and so much more!</text>
LOCATION:Hi-Desert Nature Museum\, 57090 Twentynine Palms Hwy Yucca Valley\, California 92284
CLASS:PUBLIC
END:VEVENT
END:VCALENDAR
