BEGIN:VCALENDAR
VERSION:2.0
PRODID:Yucca Valley, CA Calendar Creator
METHOD:PUBLISH
BEGIN:VEVENT
DTSTAMP:20260313T101425
DTSTART:20260630T113000
DTEND:20260630T130000
SUMMARY:Youth Basketball Clinic
DESCRIPTION:<p><text direction="ltr" height="6.75" lengthadjust="spacingAndGlyphs" textlength="196.36203002929688" x="261.158203125" y="-425.0443115234375" data-test="textbox">In partnership with Copper Mountain College&nbsp;</text><text direction="ltr" height="6.75" lengthadjust="spacingAndGlyphs" textlength="223.81204223632812" x="261.2662048339844" y="-414.24432373046875" data-test="textbox">Basketball, this coed clinic offers young athletes the&nbsp;</text><text direction="ltr" height="6.75" lengthadjust="spacingAndGlyphs" textlength="219.39303588867188" x="260.9242248535156" y="-403.4443054199219" data-test="textbox">chance to develop essential basketball skills under&nbsp;</text><text direction="ltr" height="6.75" lengthadjust="spacingAndGlyphs" textlength="76.51797485351562" x="260.9242248535156" y="-392.6443176269531" data-test="textbox">expert instruction. $75. Grades 6-9</text></p><p><text direction="ltr" height="6.75" lengthadjust="spacingAndGlyphs" textlength="76.51797485351562" x="260.9242248535156" y="-392.6443176269531" data-test="textbox">&nbsp;<a href="https://secure.rec1.com/CA/yucca-valley-ca/catalog" target="_blank" rel="noopener">Learn more.</a></text></p>
X-ALT-DESC;FMTTYPE=text/html:<p><text direction="ltr" height="6.75" lengthadjust="spacingAndGlyphs" textlength="196.36203002929688" x="261.158203125" y="-425.0443115234375" data-test="textbox">In partnership with Copper Mountain College&nbsp;</text><text direction="ltr" height="6.75" lengthadjust="spacingAndGlyphs" textlength="223.81204223632812" x="261.2662048339844" y="-414.24432373046875" data-test="textbox">Basketball, this coed clinic offers young athletes the&nbsp;</text><text direction="ltr" height="6.75" lengthadjust="spacingAndGlyphs" textlength="219.39303588867188" x="260.9242248535156" y="-403.4443054199219" data-test="textbox">chance to develop essential basketball skills under&nbsp;</text><text direction="ltr" height="6.75" lengthadjust="spacingAndGlyphs" textlength="76.51797485351562" x="260.9242248535156" y="-392.6443176269531" data-test="textbox">expert instruction. $75. Grades 6-9</text></p><p><text direction="ltr" height="6.75" lengthadjust="spacingAndGlyphs" textlength="76.51797485351562" x="260.9242248535156" y="-392.6443176269531" data-test="textbox">&nbsp;<a href="https://secure.rec1.com/CA/yucca-valley-ca/catalog" target="_blank" rel="noopener">Learn more.</a></text></p>
LOCATION:Copper Mountain College\, 6156 Copper Mountain Rd Joshua Tree\, California 92252
CLASS:PUBLIC
END:VEVENT
END:VCALENDAR
