BEGIN:VCALENDAR
VERSION:2.0
PRODID:Yucca Valley, CA Calendar Creator
METHOD:PUBLISH
BEGIN:VEVENT
DTSTAMP:20260313T095712
DTSTART:20260721T183000
DTEND:20260721T210000
SUMMARY:CoEd Summer Softball League
DESCRIPTION:<p><text direction="ltr" height="6.75" lengthadjust="spacingAndGlyphs" textlength="215.82904052734375" x="73.4844970703125" y="-682.11181640625" data-test="textbox">Our Adult Softball League welcomes players of all&nbsp;</text><text direction="ltr" height="6.75" lengthadjust="spacingAndGlyphs" textlength="214.92902374267578" x="73.2145004272461" y="-671.3118286132812" data-test="textbox">skill levels. Tuesday and Thursday nights are coed,&nbsp;</text><text direction="ltr" height="6.75" lengthadjust="spacingAndGlyphs" textlength="223.24503326416016" x="73.0165023803711" y="-660.5118408203125" data-test="textbox">while Wednesdays feature an open league with no&nbsp;</text><text direction="ltr" height="6.75" lengthadjust="spacingAndGlyphs" textlength="223.33502960205078" x="73.42150115966797" y="-649.7117919921875" data-test="textbox">gender requirements. Sign up as a free agent if you&nbsp;</text><text direction="ltr" height="6.75" lengthadjust="spacingAndGlyphs" textlength="219.55503845214844" x="73.44850158691406" y="-638.9118041992188" data-test="textbox">are wanting to get on a team. The summer season&nbsp;</text><text direction="ltr" height="6.75" lengthadjust="spacingAndGlyphs" textlength="223.09204864501953" x="73.7094955444336" y="-626.914794921875" data-test="textbox">begins June 2nd, with registration opening May 4th.</text></p><p><text direction="ltr" height="6.75" lengthadjust="spacingAndGlyphs" textlength="223.09204864501953" x="73.7094955444336" y="-626.914794921875" data-test="textbox"><a href="https://secure.rec1.com/CA/yucca-valley-ca/catalog" target="_blank" rel="noopener">Learn more and register now.&nbsp;</a></text></p>
X-ALT-DESC;FMTTYPE=text/html:<p><text direction="ltr" height="6.75" lengthadjust="spacingAndGlyphs" textlength="215.82904052734375" x="73.4844970703125" y="-682.11181640625" data-test="textbox">Our Adult Softball League welcomes players of all&nbsp;</text><text direction="ltr" height="6.75" lengthadjust="spacingAndGlyphs" textlength="214.92902374267578" x="73.2145004272461" y="-671.3118286132812" data-test="textbox">skill levels. Tuesday and Thursday nights are coed,&nbsp;</text><text direction="ltr" height="6.75" lengthadjust="spacingAndGlyphs" textlength="223.24503326416016" x="73.0165023803711" y="-660.5118408203125" data-test="textbox">while Wednesdays feature an open league with no&nbsp;</text><text direction="ltr" height="6.75" lengthadjust="spacingAndGlyphs" textlength="223.33502960205078" x="73.42150115966797" y="-649.7117919921875" data-test="textbox">gender requirements. Sign up as a free agent if you&nbsp;</text><text direction="ltr" height="6.75" lengthadjust="spacingAndGlyphs" textlength="219.55503845214844" x="73.44850158691406" y="-638.9118041992188" data-test="textbox">are wanting to get on a team. The summer season&nbsp;</text><text direction="ltr" height="6.75" lengthadjust="spacingAndGlyphs" textlength="223.09204864501953" x="73.7094955444336" y="-626.914794921875" data-test="textbox">begins June 2nd, with registration opening May 4th.</text></p><p><text direction="ltr" height="6.75" lengthadjust="spacingAndGlyphs" textlength="223.09204864501953" x="73.7094955444336" y="-626.914794921875" data-test="textbox"><a href="https://secure.rec1.com/CA/yucca-valley-ca/catalog" target="_blank" rel="noopener">Learn more and register now.&nbsp;</a></text></p>
LOCATION:Yucca Valley Community Center\, 57090 Twentynine Palms Hwy Yucca Valley\, California 92284
CLASS:PUBLIC
END:VEVENT
END:VCALENDAR
