BEGIN:VCALENDAR
VERSION:2.0
PRODID:Yucca Valley, CA Calendar Creator
METHOD:PUBLISH
BEGIN:VEVENT
DTSTAMP:20260313T091208
DTSTART:20260518T183000
DTEND:20260518T193000
SUMMARY:Adult Ballet
DESCRIPTION:<p><text direction="ltr" height="6.75" lengthadjust="spacingAndGlyphs" textlength="202.87801361083984" x="74.0687026977539" y="-296.6225891113281" data-test="textbox">Move with elegance and intention in our Adult&nbsp;</text><text direction="ltr" height="6.8489990234375" lengthadjust="spacingAndGlyphs" textlength="190.71001434326172" x="74.37470245361328" y="-285.8226013183594" data-test="textbox">Ballet class. Improve balance, flexibility, and&nbsp;</text><text direction="ltr" height="6.75" lengthadjust="spacingAndGlyphs" textlength="166.24803924560547" x="74.30269622802734" y="-275.0225830078125" data-test="textbox">body awareness through classic ballet&nbsp;</text><text direction="ltr" height="6.75" lengthadjust="spacingAndGlyphs" textlength="130.18498992919922" x="73.95169830322266" y="-263.02557373046875" data-test="textbox">technique in a relaxed space. $8 Drop-in.</text></p><p><text direction="ltr" height="6.75" lengthadjust="spacingAndGlyphs" textlength="130.18498992919922" x="73.95169830322266" y="-263.02557373046875" data-test="textbox"><a href="https://secure.rec1.com/CA/yucca-valley-ca/catalog" target="_blank" rel="noopener">Learn more.</a></text></p>
X-ALT-DESC;FMTTYPE=text/html:<p><text direction="ltr" height="6.75" lengthadjust="spacingAndGlyphs" textlength="202.87801361083984" x="74.0687026977539" y="-296.6225891113281" data-test="textbox">Move with elegance and intention in our Adult&nbsp;</text><text direction="ltr" height="6.8489990234375" lengthadjust="spacingAndGlyphs" textlength="190.71001434326172" x="74.37470245361328" y="-285.8226013183594" data-test="textbox">Ballet class. Improve balance, flexibility, and&nbsp;</text><text direction="ltr" height="6.75" lengthadjust="spacingAndGlyphs" textlength="166.24803924560547" x="74.30269622802734" y="-275.0225830078125" data-test="textbox">body awareness through classic ballet&nbsp;</text><text direction="ltr" height="6.75" lengthadjust="spacingAndGlyphs" textlength="130.18498992919922" x="73.95169830322266" y="-263.02557373046875" data-test="textbox">technique in a relaxed space. $8 Drop-in.</text></p><p><text direction="ltr" height="6.75" lengthadjust="spacingAndGlyphs" textlength="130.18498992919922" x="73.95169830322266" y="-263.02557373046875" data-test="textbox"><a href="https://secure.rec1.com/CA/yucca-valley-ca/catalog" target="_blank" rel="noopener">Learn more.</a></text></p>
LOCATION:Yucca Valley Community Center\, 57090 Twentynine Palms Hwy Yucca Valley\, California 92284
CLASS:PUBLIC
END:VEVENT
END:VCALENDAR
