BEGIN:VCALENDAR
VERSION:2.0
PRODID:Yucca Valley, CA Calendar Creator
METHOD:PUBLISH
BEGIN:VEVENT
DTSTAMP:20260313T090717
DTSTART:20260502T073000
DTEND:20260502T083000
SUMMARY:Slow Poke Hiking Club
DESCRIPTION:<p><text direction="ltr" height="7.001190185546875" lengthadjust="spacingAndGlyphs" textlength="217.2488136291504" x="60.76040267944336" y="-355.9879150390625" data-test="textbox">Take a hike with a certified naturalist designed to&nbsp;</text><text direction="ltr" height="6.771209716796875" lengthadjust="spacingAndGlyphs" textlength="231.25120544433594" x="60.85240173339844" y="-344.9479064941406" data-test="textbox">slow down and observe the natural world around us&nbsp;</text><text direction="ltr" height="6.899993896484375" lengthadjust="spacingAndGlyphs" textlength="228.7396354675293" x="61.09160232543945" y="-333.9079284667969" data-test="textbox">and enjoy being with our fellow hikers. We will focus&nbsp;</text><text direction="ltr" height="6.899993896484375" lengthadjust="spacingAndGlyphs" textlength="225.85082626342773" x="61.082401275634766" y="-322.867919921875" data-test="textbox">on new areas of nature to observe and learn each&nbsp;</text><text direction="ltr" height="6.899993896484375" lengthadjust="spacingAndGlyphs" textlength="226.58684539794922" x="60.650001525878906" y="-311.8279113769531" data-test="textbox">week. Taking a leisurely pace, we hope hikers of all&nbsp;</text><text direction="ltr" height="6.899993896484375" lengthadjust="spacingAndGlyphs" textlength="87.556396484375" x="60.85240173339844" y="-300.78790283203125" data-test="textbox">skill levels will join us! $5</text></p><p><text direction="ltr" height="6.899993896484375" lengthadjust="spacingAndGlyphs" textlength="87.556396484375" x="60.85240173339844" y="-300.78790283203125" data-test="textbox">&nbsp;South and North Park</text></p>
X-ALT-DESC;FMTTYPE=text/html:<p><text direction="ltr" height="7.001190185546875" lengthadjust="spacingAndGlyphs" textlength="217.2488136291504" x="60.76040267944336" y="-355.9879150390625" data-test="textbox">Take a hike with a certified naturalist designed to&nbsp;</text><text direction="ltr" height="6.771209716796875" lengthadjust="spacingAndGlyphs" textlength="231.25120544433594" x="60.85240173339844" y="-344.9479064941406" data-test="textbox">slow down and observe the natural world around us&nbsp;</text><text direction="ltr" height="6.899993896484375" lengthadjust="spacingAndGlyphs" textlength="228.7396354675293" x="61.09160232543945" y="-333.9079284667969" data-test="textbox">and enjoy being with our fellow hikers. We will focus&nbsp;</text><text direction="ltr" height="6.899993896484375" lengthadjust="spacingAndGlyphs" textlength="225.85082626342773" x="61.082401275634766" y="-322.867919921875" data-test="textbox">on new areas of nature to observe and learn each&nbsp;</text><text direction="ltr" height="6.899993896484375" lengthadjust="spacingAndGlyphs" textlength="226.58684539794922" x="60.650001525878906" y="-311.8279113769531" data-test="textbox">week. Taking a leisurely pace, we hope hikers of all&nbsp;</text><text direction="ltr" height="6.899993896484375" lengthadjust="spacingAndGlyphs" textlength="87.556396484375" x="60.85240173339844" y="-300.78790283203125" data-test="textbox">skill levels will join us! $5</text></p><p><text direction="ltr" height="6.899993896484375" lengthadjust="spacingAndGlyphs" textlength="87.556396484375" x="60.85240173339844" y="-300.78790283203125" data-test="textbox">&nbsp;South and North Park</text></p>
LOCATION:
CLASS:PUBLIC
END:VEVENT
END:VCALENDAR
