BEGIN:VCALENDAR
VERSION:2.0
PRODID:Yucca Valley, CA Calendar Creator
METHOD:PUBLISH
BEGIN:VEVENT
DTSTAMP:20260311T140935
DTSTART:20260530T183000
DTEND:20260530T200000
SUMMARY:Forest Bath Hike
DESCRIPTION:<text direction="ltr" height="6.75" lengthadjust="spacingAndGlyphs" textlength="204.633056640625" x="313.40899658203125" y="-516.9747924804688" data-test="textbox">Experience the desert as it comes alive at dusk.&nbsp;</text><text direction="ltr" height="6.75" lengthadjust="spacingAndGlyphs" textlength="227.5380859375" x="312.7340087890625" y="-506.1748046875" data-test="textbox">Step away from the fast-paced, screen-lit world and&nbsp;</text><text direction="ltr" height="6.75" lengthadjust="spacingAndGlyphs" textlength="219.177001953125" x="313.01300048828125" y="-495.3747863769531" data-test="textbox">immerse yourself in a mindful and slow-paced hike&nbsp;</text><text direction="ltr" height="6.75" lengthadjust="spacingAndGlyphs" textlength="202.131103515625" x="312.9949951171875" y="-484.5747985839844" data-test="textbox">through the desert at dusk. Unlike a traditional,&nbsp;</text><text direction="ltr" height="6.75" lengthadjust="spacingAndGlyphs" textlength="192.66302490234375" x="312.85101318359375" y="-473.7747802734375" data-test="textbox">strenuous hike, this “forest bath” is a gentle,&nbsp;</text><text direction="ltr" height="6.75" lengthadjust="spacingAndGlyphs" textlength="229.4820556640625" x="313.0670166015625" y="-462.97479248046875" data-test="textbox">restorative experience designed to open your senses&nbsp;</text><text direction="ltr" height="6.75" lengthadjust="spacingAndGlyphs" textlength="230.54403686523438" x="313.0849914550781" y="-452.1748046875" data-test="textbox">and connect you intimately with nature, allowing the&nbsp;</text><text direction="ltr" height="6.75" lengthadjust="spacingAndGlyphs" textlength="104.28302001953125" x="313.093994140625" y="-441.3747863769531" data-test="textbox">desert to be your guide. $20</text>
X-ALT-DESC;FMTTYPE=text/html:<text direction="ltr" height="6.75" lengthadjust="spacingAndGlyphs" textlength="204.633056640625" x="313.40899658203125" y="-516.9747924804688" data-test="textbox">Experience the desert as it comes alive at dusk.&nbsp;</text><text direction="ltr" height="6.75" lengthadjust="spacingAndGlyphs" textlength="227.5380859375" x="312.7340087890625" y="-506.1748046875" data-test="textbox">Step away from the fast-paced, screen-lit world and&nbsp;</text><text direction="ltr" height="6.75" lengthadjust="spacingAndGlyphs" textlength="219.177001953125" x="313.01300048828125" y="-495.3747863769531" data-test="textbox">immerse yourself in a mindful and slow-paced hike&nbsp;</text><text direction="ltr" height="6.75" lengthadjust="spacingAndGlyphs" textlength="202.131103515625" x="312.9949951171875" y="-484.5747985839844" data-test="textbox">through the desert at dusk. Unlike a traditional,&nbsp;</text><text direction="ltr" height="6.75" lengthadjust="spacingAndGlyphs" textlength="192.66302490234375" x="312.85101318359375" y="-473.7747802734375" data-test="textbox">strenuous hike, this “forest bath” is a gentle,&nbsp;</text><text direction="ltr" height="6.75" lengthadjust="spacingAndGlyphs" textlength="229.4820556640625" x="313.0670166015625" y="-462.97479248046875" data-test="textbox">restorative experience designed to open your senses&nbsp;</text><text direction="ltr" height="6.75" lengthadjust="spacingAndGlyphs" textlength="230.54403686523438" x="313.0849914550781" y="-452.1748046875" data-test="textbox">and connect you intimately with nature, allowing the&nbsp;</text><text direction="ltr" height="6.75" lengthadjust="spacingAndGlyphs" textlength="104.28302001953125" x="313.093994140625" y="-441.3747863769531" data-test="textbox">desert to be your guide. $20</text>
LOCATION:Machris Park\, 59100 Santa Barbara Yucca Valley\, California 92284
CLASS:PUBLIC
END:VEVENT
END:VCALENDAR
