BEGIN:VCALENDAR
VERSION:2.0
PRODID:Yucca Valley, CA Calendar Creator
METHOD:PUBLISH
BEGIN:VEVENT
DTSTAMP:20260310T113754
DTSTART:20260404T100000
DTEND:20260404T160000
SUMMARY:First Saturday Cart Talks
DESCRIPTION:Head to the Hi-Desert Nature museum at 10 a.m. or 3 p.m. for a hands-on, educational cart talk about local desert animals and the adaptations that help them survive.&nbsp;
X-ALT-DESC;FMTTYPE=text/html:Head to the Hi-Desert Nature museum at 10 a.m. or 3 p.m. for a hands-on, educational cart talk about local desert animals and the adaptations that help them survive.&nbsp;
LOCATION:Hi-Desert Nature Museum\, 57090 Twentynine Palms Hwy Yucca Valley\, California 92284
CLASS:PUBLIC
END:VEVENT
END:VCALENDAR
