BEGIN:VCALENDAR
VERSION:2.0
PRODID:Yucca Valley, CA Calendar Creator
METHOD:PUBLISH
BEGIN:VEVENT
DTSTAMP:20260309T150603
DTSTART:20260725T183000
DTEND:20260725T210000
SUMMARY:Summer Concert: Upstream
DESCRIPTION:<p>Enjoy carribean reggae by Upstream at the Community Center ballfield.&nbsp;</p><p>Gates open 6:30, Concert from 7-9 p.m.</p><p>Bring a blanket and the family. Admission is free!</p><p>For concert sponsorship info, contact (760) 369-7211.</p><p>&nbsp;</p>
X-ALT-DESC;FMTTYPE=text/html:<p>Enjoy carribean reggae by Upstream at the Community Center ballfield.&nbsp;</p><p>Gates open 6:30, Concert from 7-9 p.m.</p><p>Bring a blanket and the family. Admission is free!</p><p>For concert sponsorship info, contact (760) 369-7211.</p><p>&nbsp;</p>
LOCATION:Yucca Valley Community Center\, 57090 Twentynine Palms Hwy Yucca Valley\, California 92284
CLASS:PUBLIC
END:VEVENT
END:VCALENDAR
