BEGIN:VCALENDAR
VERSION:2.0
PRODID:Yucca Valley, CA Calendar Creator
METHOD:PUBLISH
BEGIN:VEVENT
DTSTAMP:20260309T145740
DTSTART:20260703T180000
DTEND:20260703T220000
SUMMARY:Independence Day Celebration: Concert and Fireworks Spectacular
DESCRIPTION:<p>The Independence Day concert and Fireworks Spectacular at the YVHS Stadium will feature special enhancements to celebrate Independence Day including patriotic-themed decorations and giveaways, concert, food vendors and live music by Those Guys, a  band that creates a great concert experience for all ages! </p><p><strong>Timing:</strong> Gates open at 6 p.m. with the concert kicking off at 6:30 p.m. and fireworks at 9 p.m.&nbsp; with patriotic music simulcast by media sponsor, Z107.7 Radio. </p><p><strong>Parking:</strong> Free event parking is available in the school parking lots, bus lane and surrounding streets. A drop-off lane will be available in the north parking lot near the stadium entry. <a href="https://yucca.prod-as.govaccess.org/home/showpublisheddocument/9046/638864503756130000" target="_blank">View parking areas</a>.</p><p><strong>What to bring:</strong> Three seating areas are provided at the stadium. Spectators seated in the Food Truck Plaza Seating or Grandstands Seating are permitted to bring personal refreshments and coolers, or purchase from a variety of food trucks and vendors. Spectators seated in the Field Zone Seating may bring water only, please no food or other beverages. Spectators in the Field Zone Seating may bring blankets, chairs, coolers (water only) and pop-up canopies/EZ-UPs (weights only, no stakes).</p><p>Alcohol, drugs, vapes, tobacco, etc. are strictly prohibited on school property.&nbsp; Fireworks are no fun for pets, so patrons are asked to leave furry friends at home.&nbsp;</p><p><strong>Watching from home:</strong> For those who prefer to view the event from home, the Fireworks Spectacular show will feature a beautiful 19-minute fireworks show from the elevated location of Yucca Valley High School, along with a music simulcast on Z107.7 FM radio. The community is invited to watch the fireworks from their front porches, balconies and backyards.</p><p><p style="text-align: center;"></p></p>
X-ALT-DESC;FMTTYPE=text/html:<p>The Independence Day concert and Fireworks Spectacular at the YVHS Stadium will feature special enhancements to celebrate Independence Day including patriotic-themed decorations and giveaways, concert, food vendors and live music by Those Guys, a  band that creates a great concert experience for all ages! </p><p><strong>Timing:</strong> Gates open at 6 p.m. with the concert kicking off at 6:30 p.m. and fireworks at 9 p.m.&nbsp; with patriotic music simulcast by media sponsor, Z107.7 Radio. </p><p><strong>Parking:</strong> Free event parking is available in the school parking lots, bus lane and surrounding streets. A drop-off lane will be available in the north parking lot near the stadium entry. <a href="https://yucca.prod-as.govaccess.org/home/showpublisheddocument/9046/638864503756130000" target="_blank">View parking areas</a>.</p><p><strong>What to bring:</strong> Three seating areas are provided at the stadium. Spectators seated in the Food Truck Plaza Seating or Grandstands Seating are permitted to bring personal refreshments and coolers, or purchase from a variety of food trucks and vendors. Spectators seated in the Field Zone Seating may bring water only, please no food or other beverages. Spectators in the Field Zone Seating may bring blankets, chairs, coolers (water only) and pop-up canopies/EZ-UPs (weights only, no stakes).</p><p>Alcohol, drugs, vapes, tobacco, etc. are strictly prohibited on school property.&nbsp; Fireworks are no fun for pets, so patrons are asked to leave furry friends at home.&nbsp;</p><p><strong>Watching from home:</strong> For those who prefer to view the event from home, the Fireworks Spectacular show will feature a beautiful 19-minute fireworks show from the elevated location of Yucca Valley High School, along with a music simulcast on Z107.7 FM radio. The community is invited to watch the fireworks from their front porches, balconies and backyards.</p><p><p style="text-align: center;"></p></p>
LOCATION:Yucca Valley High School\, 7600 Sage Ave Yucca Valley\, California 92284
CLASS:PUBLIC
END:VEVENT
END:VCALENDAR
