BEGIN:VCALENDAR
VERSION:2.0
PRODID:Yucca Valley, CA Calendar Creator
METHOD:PUBLISH
BEGIN:VEVENT
DTSTAMP:20260129T110603
DTSTART:20260328T080000
DTEND:20260328T120000
SUMMARY:Community Cleanup & Compost Event
DESCRIPTION:<p>&nbsp;Join us for the upcoming Residential Sustainability Event, 8:00 a.m.-12:00 p.m. at the Yucca Valley Transfer Station (58925 Sunnyslope Dr.)! For a smooth event, please review the following:&nbsp;</p><p>ACCEPTED ITEMS</p><ul>    <li>Appliances (washers &amp; dryers, refrigerators, stoves, water heaters, dishwashers)</li>    <li>Furniture (couches, tables &amp; chairs, mattresses, patio furniture)</li>    <li>Electronic Waste</li>    <li>Tires (limit 4 &amp; rimless)</li>    <li>Green Waste</li></ul><p>NOT ACCEPTED</p><ul>    <li>Commercial Trash</li>    <li>Construction and Demo</li>    <li>Household Hazardous Waste </li></ul><p>Self Serve Compost</p><ul>    <li>Bring a sturdy container, shovel, and gloves.</li>    <li>Created from your curbside organics recycling. Add it to your plants to improve soil</li>    <li>While supplies last</li></ul><p></p>
X-ALT-DESC;FMTTYPE=text/html:<p>&nbsp;Join us for the upcoming Residential Sustainability Event, 8:00 a.m.-12:00 p.m. at the Yucca Valley Transfer Station (58925 Sunnyslope Dr.)! For a smooth event, please review the following:&nbsp;</p><p>ACCEPTED ITEMS</p><ul>    <li>Appliances (washers &amp; dryers, refrigerators, stoves, water heaters, dishwashers)</li>    <li>Furniture (couches, tables &amp; chairs, mattresses, patio furniture)</li>    <li>Electronic Waste</li>    <li>Tires (limit 4 &amp; rimless)</li>    <li>Green Waste</li></ul><p>NOT ACCEPTED</p><ul>    <li>Commercial Trash</li>    <li>Construction and Demo</li>    <li>Household Hazardous Waste </li></ul><p>Self Serve Compost</p><ul>    <li>Bring a sturdy container, shovel, and gloves.</li>    <li>Created from your curbside organics recycling. Add it to your plants to improve soil</li>    <li>While supplies last</li></ul><p></p>
LOCATION:Yucca Valley Transfer Station\, 58925 Sunnyslope Dr. Yucca Valley\, California 92284
CLASS:PUBLIC
END:VEVENT
END:VCALENDAR
