BEGIN:VCALENDAR
VERSION:2.0
PRODID:Yucca Valley, CA Calendar Creator
METHOD:PUBLISH
BEGIN:VEVENT
DTSTAMP:20250923T160446
DTSTART:20250927T093000
DTEND:20250927T103000
SUMMARY:Science for the Future
DESCRIPTION:<p>From the instructor Gina B.who brought you the Lego Engineering course comes a new and exciting class! Children will become scientists as they look at the most modern science of today and how it will shape the future! During this 4-week program children will make and take home a mini project each class that includes: Tesla Bot, Space X Starlink, Flying Car, and Space X Starship.</p><p>Ages 5-10. $100 or $25 drop-in session. <a href="https://secure.rec1.com/CA/yucca-valley-ca/catalog" target="_blank" rel="noopener">Register now.&nbsp;</a></p>
X-ALT-DESC;FMTTYPE=text/html:<p>From the instructor Gina B.who brought you the Lego Engineering course comes a new and exciting class! Children will become scientists as they look at the most modern science of today and how it will shape the future! During this 4-week program children will make and take home a mini project each class that includes: Tesla Bot, Space X Starlink, Flying Car, and Space X Starship.</p><p>Ages 5-10. $100 or $25 drop-in session. <a href="https://secure.rec1.com/CA/yucca-valley-ca/catalog" target="_blank" rel="noopener">Register now.&nbsp;</a></p>
LOCATION:Yucca Valley Community Center\, 57090 Twentynine Palms Hwy Yucca Valley\, California 92284
CLASS:PUBLIC
END:VEVENT
END:VCALENDAR
