BEGIN:VCALENDAR
VERSION:2.0
PRODID:Yucca Valley, CA Calendar Creator
METHOD:PUBLISH
BEGIN:VEVENT
DTSTAMP:20260105T131651
DTSTART:20260219T174500
DTEND:20260219T184500
SUMMARY:Basic Dog Obedience
DESCRIPTION:<p>This 6-week course establishes skills for successful communication between you and your pet. This course is taught by Certified Animal Behaviorist Lori Herbel UW-AAB. Participants under the age of 18 must be accompanied by an adult. Puppies are welcomed! $100 course fee.</p><p>Register here:&nbsp;https://secure.rec1.com/CA/yucca-valley-ca/catalog</p>
X-ALT-DESC;FMTTYPE=text/html:<p>This 6-week course establishes skills for successful communication between you and your pet. This course is taught by Certified Animal Behaviorist Lori Herbel UW-AAB. Participants under the age of 18 must be accompanied by an adult. Puppies are welcomed! $100 course fee.</p><p>Register here:&nbsp;https://secure.rec1.com/CA/yucca-valley-ca/catalog</p>
LOCATION:Yucca Room- YV Community Center\, 57090 Twentynine Palms Hwy Yucca Valley\, California 92284
CLASS:PUBLIC
END:VEVENT
END:VCALENDAR
