BEGIN:VCALENDAR
VERSION:2.0
PRODID:Yucca Valley, CA Calendar Creator
METHOD:PUBLISH
BEGIN:VEVENT
DTSTAMP:20260105T123810
DTSTART:20260203T160000
DTEND:20260203T170000
SUMMARY:Ceramics Class – Session 1
DESCRIPTION:<div title="Page 16"><div><div><div><p>Join instructor Robyn as she teaches the techniques to make your very own ceramic piece!  </p><p>Week 1: shaping and structure<br>Week 2: carving designs<br>Week 3: drying and first firing<br>Week 4: glazing and decorating<br>Pick up will be after 2/10 after the instructor fires your final piece!&nbsp;</p><p>$50 class fee and $50 material fee.</p><p><a href="https://secure.rec1.com/CA/yucca-valley-ca/catalog" target="_blank" rel="noopener">Register now.&nbsp;</a></p></div></div></div></div>
X-ALT-DESC;FMTTYPE=text/html:<div title="Page 16"><div><div><div><p>Join instructor Robyn as she teaches the techniques to make your very own ceramic piece!  </p><p>Week 1: shaping and structure<br>Week 2: carving designs<br>Week 3: drying and first firing<br>Week 4: glazing and decorating<br>Pick up will be after 2/10 after the instructor fires your final piece!&nbsp;</p><p>$50 class fee and $50 material fee.</p><p><a href="https://secure.rec1.com/CA/yucca-valley-ca/catalog" target="_blank" rel="noopener">Register now.&nbsp;</a></p></div></div></div></div>
LOCATION:Yucca Valley Community Center\, 57090 Twentynine Palms Hwy Yucca Valley\, California 92284
CLASS:PUBLIC
END:VEVENT
END:VCALENDAR
