BEGIN:VCALENDAR
VERSION:2.0
PRODID:Yucca Valley, CA Calendar Creator
METHOD:PUBLISH
BEGIN:VEVENT
DTSTAMP:20250313T085341
DTSTART:20250906T080000
DTEND:20250906T110000
SUMMARY:Family Fun Run – 5k Run & 2k Walk
DESCRIPTION:<div title="Page 19"><div><div><div><p>Gather the family for a fun-filled morning of exercise with a 5K run or 2K walk at Machris Park. This event is perfect for participants of all ages and fitness levels, Whether running or walking, everyone is welcome to join in on the fun!&nbsp;</p></div></div></div></div><p>&nbsp;$30 early bird registration through August 10. $35 normal registration.</p><p>Register here:&nbsp;https://secure.rec1.com/CA/yucca-valley-ca/catalog</p>
X-ALT-DESC;FMTTYPE=text/html:<div title="Page 19"><div><div><div><p>Gather the family for a fun-filled morning of exercise with a 5K run or 2K walk at Machris Park. This event is perfect for participants of all ages and fitness levels, Whether running or walking, everyone is welcome to join in on the fun!&nbsp;</p></div></div></div></div><p>&nbsp;$30 early bird registration through August 10. $35 normal registration.</p><p>Register here:&nbsp;https://secure.rec1.com/CA/yucca-valley-ca/catalog</p>
LOCATION:Machris Park\, 59100 Santa Barbara Yucca Valley\, California 92284
CLASS:PUBLIC
END:VEVENT
END:VCALENDAR
