BEGIN:VCALENDAR
VERSION:2.0
PRODID:Yucca Valley, CA Calendar Creator
METHOD:PUBLISH
BEGIN:VEVENT
DTSTAMP:20250312T112332
DTSTART:20250904T180000
DTEND:20250904T210000
SUMMARY:Fall Co-Ed Softball
DESCRIPTION:<p>Our Adult Softball League welcomes players of all skill levels, whether you’re a seasoned veteran or just starting out, our coed spring league is for you. Don’t have a team? You can sign up as a free agent and make some new friends. Join us on the field and be part of the action! Season starts August 26th! Registration for the fall season opens July 14th. $413 registration fee per team</p><p>Register here:&nbsp;https://secure.rec1.com/CA/yucca-valley-ca/catalog</p>
X-ALT-DESC;FMTTYPE=text/html:<p>Our Adult Softball League welcomes players of all skill levels, whether you’re a seasoned veteran or just starting out, our coed spring league is for you. Don’t have a team? You can sign up as a free agent and make some new friends. Join us on the field and be part of the action! Season starts August 26th! Registration for the fall season opens July 14th. $413 registration fee per team</p><p>Register here:&nbsp;https://secure.rec1.com/CA/yucca-valley-ca/catalog</p>
LOCATION:Yucca Valley Community Center\, 57090 Twentynine Palms Hwy Yucca Valley\, California 92284
CLASS:PUBLIC
END:VEVENT
END:VCALENDAR
