BEGIN:VCALENDAR
VERSION:2.0
PRODID:Yucca Valley, CA Calendar Creator
METHOD:PUBLISH
BEGIN:VEVENT
DTSTAMP:20260320T142621
DTSTART:20260917T183000
DTEND:20260917T210000
SUMMARY:CoEd Fall Softball League
DESCRIPTION:<p><text direction="ltr" height="6.75" lengthadjust="spacingAndGlyphs" textlength="215.82904052734375" x="73.4844970703125" y="-682.11181640625" data-test="textbox"><text direction="ltr" height="6.75" lengthadjust="spacingAndGlyphs" textlength="203.5889892578125" x="322.12890625" y="-682.11181640625" data-test="textbox">Our Adult Softball League welcomes players of&nbsp;</text><text direction="ltr" height="6.75" lengthadjust="spacingAndGlyphs" textlength="198.216064453125" x="322.0928955078125" y="-671.3118286132812" data-test="textbox">all skill levels. Tuesday and Thursday nights are&nbsp;</text><text direction="ltr" height="6.75" lengthadjust="spacingAndGlyphs" textlength="200.19598388671875" x="322.08392333984375" y="-660.5118408203125" data-test="textbox">coed and Wednesday is open league with no&nbsp;</text><text direction="ltr" height="6.8489990234375" lengthadjust="spacingAndGlyphs" textlength="211.22100830078125" x="322.06591796875" y="-649.7117919921875" data-test="textbox">gender requirements. Join us on the field and be&nbsp;</text><text direction="ltr" height="6.75" lengthadjust="spacingAndGlyphs" textlength="193.44601440429688" x="322.3179016113281" y="-638.9118041992188" data-test="textbox">part of the action! Season starts August 25th!</text><text direction="ltr" height="6.75" lengthadjust="spacingAndGlyphs" textlength="199.90802001953125" x="322.44390869140625" y="-626.914794921875" data-test="textbox">Registration for the fall season opens July 27th.&nbsp;</text></text><text direction="ltr" height="6.75" lengthadjust="spacingAndGlyphs" textlength="223.09204864501953" x="73.7094955444336" y="-626.914794921875" data-test="textbox"><a href="https://secure.rec1.com/CA/yucca-valley-ca/catalog" target="_blank" rel="noopener">Learn more and register now.&nbsp;</a></text></p>
X-ALT-DESC;FMTTYPE=text/html:<p><text direction="ltr" height="6.75" lengthadjust="spacingAndGlyphs" textlength="215.82904052734375" x="73.4844970703125" y="-682.11181640625" data-test="textbox"><text direction="ltr" height="6.75" lengthadjust="spacingAndGlyphs" textlength="203.5889892578125" x="322.12890625" y="-682.11181640625" data-test="textbox">Our Adult Softball League welcomes players of&nbsp;</text><text direction="ltr" height="6.75" lengthadjust="spacingAndGlyphs" textlength="198.216064453125" x="322.0928955078125" y="-671.3118286132812" data-test="textbox">all skill levels. Tuesday and Thursday nights are&nbsp;</text><text direction="ltr" height="6.75" lengthadjust="spacingAndGlyphs" textlength="200.19598388671875" x="322.08392333984375" y="-660.5118408203125" data-test="textbox">coed and Wednesday is open league with no&nbsp;</text><text direction="ltr" height="6.8489990234375" lengthadjust="spacingAndGlyphs" textlength="211.22100830078125" x="322.06591796875" y="-649.7117919921875" data-test="textbox">gender requirements. Join us on the field and be&nbsp;</text><text direction="ltr" height="6.75" lengthadjust="spacingAndGlyphs" textlength="193.44601440429688" x="322.3179016113281" y="-638.9118041992188" data-test="textbox">part of the action! Season starts August 25th!</text><text direction="ltr" height="6.75" lengthadjust="spacingAndGlyphs" textlength="199.90802001953125" x="322.44390869140625" y="-626.914794921875" data-test="textbox">Registration for the fall season opens July 27th.&nbsp;</text></text><text direction="ltr" height="6.75" lengthadjust="spacingAndGlyphs" textlength="223.09204864501953" x="73.7094955444336" y="-626.914794921875" data-test="textbox"><a href="https://secure.rec1.com/CA/yucca-valley-ca/catalog" target="_blank" rel="noopener">Learn more and register now.&nbsp;</a></text></p>
LOCATION:Yucca Valley Community Center\, 57090 Twentynine Palms Hwy Yucca Valley\, California 92284
CLASS:PUBLIC
END:VEVENT
END:VCALENDAR
