BEGIN:VCALENDAR
VERSION:2.0
PRODID:Yucca Valley, CA Calendar Creator
METHOD:PUBLISH
BEGIN:VEVENT
DTSTAMP:20260320T142240
DTSTART:20260710T170000
DTEND:20260710T190000
SUMMARY:Private Swim Lessons
DESCRIPTION:<p><text direction="ltr" height="6.75" lengthadjust="spacingAndGlyphs" textlength="217.35002899169922" x="37.167701721191406" y="-708.5223999023438" data-test="textbox">Private Swim Lessons, designed to meet the needs&nbsp;</text><text direction="ltr" height="6.75" lengthadjust="spacingAndGlyphs" textlength="199.5750617980957" x="36.84370040893555" y="-697.722412109375" data-test="textbox">of the individual participants. Each lesson is 30&nbsp;</text><text direction="ltr" height="6.75" lengthadjust="spacingAndGlyphs" textlength="34.81199645996094" x="37.068702697753906" y="-686.9224243164062" data-test="textbox">minutes. $30/hr/day</text></p><p><text direction="ltr" height="6.75" lengthadjust="spacingAndGlyphs" textlength="34.81199645996094" x="37.068702697753906" y="-686.9224243164062" data-test="textbox"><text direction="ltr" height="6" lengthadjust="spacingAndGlyphs" textlength="76.0479965209961" x="41.10179901123047" y="-630.4664306640625" data-test="textbox">Location: YVHS Pool</text></text></p><div><text class="_textbox_x434h_15" direction="ltr" height="6" lengthadjust="spacingAndGlyphs" textlength="76.0479965209961" x="41.10179901123047" y="-630.4664306640625" data-test="textbox" style="color: rgb(26, 25, 24); font-family: AtlasGrotesk, -apple-system, &quot;system-ui&quot;, &quot;Segoe UI&quot;, Roboto, Oxygen, Ubuntu, Cantarell, &quot;Open Sans&quot;, &quot;Helvetica Neue&quot;, sans-serif; background-color: rgb(247, 245, 242); font-size: 8px;"><br></text></div>
X-ALT-DESC;FMTTYPE=text/html:<p><text direction="ltr" height="6.75" lengthadjust="spacingAndGlyphs" textlength="217.35002899169922" x="37.167701721191406" y="-708.5223999023438" data-test="textbox">Private Swim Lessons, designed to meet the needs&nbsp;</text><text direction="ltr" height="6.75" lengthadjust="spacingAndGlyphs" textlength="199.5750617980957" x="36.84370040893555" y="-697.722412109375" data-test="textbox">of the individual participants. Each lesson is 30&nbsp;</text><text direction="ltr" height="6.75" lengthadjust="spacingAndGlyphs" textlength="34.81199645996094" x="37.068702697753906" y="-686.9224243164062" data-test="textbox">minutes. $30/hr/day</text></p><p><text direction="ltr" height="6.75" lengthadjust="spacingAndGlyphs" textlength="34.81199645996094" x="37.068702697753906" y="-686.9224243164062" data-test="textbox"><text direction="ltr" height="6" lengthadjust="spacingAndGlyphs" textlength="76.0479965209961" x="41.10179901123047" y="-630.4664306640625" data-test="textbox">Location: YVHS Pool</text></text></p><div><text class="_textbox_x434h_15" direction="ltr" height="6" lengthadjust="spacingAndGlyphs" textlength="76.0479965209961" x="41.10179901123047" y="-630.4664306640625" data-test="textbox" style="color: rgb(26, 25, 24); font-family: AtlasGrotesk, -apple-system, &quot;system-ui&quot;, &quot;Segoe UI&quot;, Roboto, Oxygen, Ubuntu, Cantarell, &quot;Open Sans&quot;, &quot;Helvetica Neue&quot;, sans-serif; background-color: rgb(247, 245, 242); font-size: 8px;"><br></text></div>
LOCATION:
CLASS:PUBLIC
END:VEVENT
END:VCALENDAR
