BEGIN:VCALENDAR
VERSION:2.0
PRODID:Yucca Valley, CA Calendar Creator
METHOD:PUBLISH
BEGIN:VEVENT
DTSTAMP:20260320T140718
DTSTART:20260724T100000
DTEND:20260724T120000
SUMMARY:H-2-OH!! Water Playtime!!
DESCRIPTION:<p><text direction="ltr" height="6.75" lengthadjust="spacingAndGlyphs" textlength="200.04306030273438" x="293.27398681640625" y="-569.4376220703125" data-test="textbox">Hey kids! Come cool off in the park with lots of&nbsp;</text><text direction="ltr" height="6.75" lengthadjust="spacingAndGlyphs" textlength="204.68701171875" x="292.5360107421875" y="-558.6376342773438" data-test="textbox">ways to beat the summer heat. Young children&nbsp;</text><text direction="ltr" height="6.75" lengthadjust="spacingAndGlyphs" textlength="211.10403442382812" x="292.9590148925781" y="-547.837646484375" data-test="textbox">can play on a slip-n-slide, wade in small pools, or&nbsp;</text><text direction="ltr" height="6.8489990234375" lengthadjust="spacingAndGlyphs" textlength="202.92300415039062" x="292.9590148925781" y="-537.03759765625" data-test="textbox">climb up and slide down the inflatable play set. FREE/&nbsp;8 &amp; under</text></p><p>Location: Community Center North Lawn<br><div></div></p><div><text class="_textbox_x434h_15" direction="ltr" height="6" lengthadjust="spacingAndGlyphs" textlength="157.67999267578125" x="297.2020263671875" y="-494.6296081542969" data-test="textbox" style="color: rgb(26, 25, 24); font-family: AtlasGrotesk, -apple-system, &quot;system-ui&quot;, &quot;Segoe UI&quot;, Roboto, Oxygen, Ubuntu, Cantarell, &quot;Open Sans&quot;, &quot;Helvetica Neue&quot;, sans-serif; background-color: rgb(247, 245, 242); font-size: 8px;"><br></text></div>
X-ALT-DESC;FMTTYPE=text/html:<p><text direction="ltr" height="6.75" lengthadjust="spacingAndGlyphs" textlength="200.04306030273438" x="293.27398681640625" y="-569.4376220703125" data-test="textbox">Hey kids! Come cool off in the park with lots of&nbsp;</text><text direction="ltr" height="6.75" lengthadjust="spacingAndGlyphs" textlength="204.68701171875" x="292.5360107421875" y="-558.6376342773438" data-test="textbox">ways to beat the summer heat. Young children&nbsp;</text><text direction="ltr" height="6.75" lengthadjust="spacingAndGlyphs" textlength="211.10403442382812" x="292.9590148925781" y="-547.837646484375" data-test="textbox">can play on a slip-n-slide, wade in small pools, or&nbsp;</text><text direction="ltr" height="6.8489990234375" lengthadjust="spacingAndGlyphs" textlength="202.92300415039062" x="292.9590148925781" y="-537.03759765625" data-test="textbox">climb up and slide down the inflatable play set. FREE/&nbsp;8 &amp; under</text></p><p>Location: Community Center North Lawn<br><div></div></p><div><text class="_textbox_x434h_15" direction="ltr" height="6" lengthadjust="spacingAndGlyphs" textlength="157.67999267578125" x="297.2020263671875" y="-494.6296081542969" data-test="textbox" style="color: rgb(26, 25, 24); font-family: AtlasGrotesk, -apple-system, &quot;system-ui&quot;, &quot;Segoe UI&quot;, Roboto, Oxygen, Ubuntu, Cantarell, &quot;Open Sans&quot;, &quot;Helvetica Neue&quot;, sans-serif; background-color: rgb(247, 245, 242); font-size: 8px;"><br></text></div>
LOCATION:
CLASS:PUBLIC
END:VEVENT
END:VCALENDAR
