BEGIN:VCALENDAR
VERSION:2.0
PRODID:Yucca Valley, CA Calendar Creator
METHOD:PUBLISH
BEGIN:VEVENT
DTSTAMP:20260320T125508
DTSTART:20260622T080000
DTEND:20260622T085000
SUMMARY:Lap Swimming
DESCRIPTION:<p><text direction="ltr" height="6.75" lengthadjust="spacingAndGlyphs" textlength="188.8470458984375" x="322.9289855957031" y="-537.5250244140625" data-test="textbox">50 minutes sessions. Six divided lanes, max 3&nbsp;</text><text direction="ltr" height="6.75" lengthadjust="spacingAndGlyphs" textlength="209.78997802734375" x="322.79400634765625" y="-526.7250366210938" data-test="textbox">swimmers per lane. Lane sharing will be required&nbsp;</text><text direction="ltr" height="6.75" lengthadjust="spacingAndGlyphs" textlength="119.86199951171875" x="323.0369873046875" y="-515.925048828125" data-test="textbox">depending on attendance.&nbsp;$7 in person/ $4 online</text></p><p><text direction="ltr" height="6.75" lengthadjust="spacingAndGlyphs" textlength="119.86199951171875" x="323.0369873046875" y="-515.925048828125" data-test="textbox"><text direction="ltr" height="6" lengthadjust="spacingAndGlyphs" textlength="135.4320068359375" x="327.2610778808594" y="-459.468994140625" data-test="textbox">No PM Lap Swim Fridays 7/31 or 8/7</text></text></p><p><text direction="ltr" height="6.75" lengthadjust="spacingAndGlyphs" textlength="119.86199951171875" x="323.0369873046875" y="-515.925048828125" data-test="textbox"><text direction="ltr" height="6" lengthadjust="spacingAndGlyphs" textlength="135.4320068359375" x="327.2610778808594" y="-459.468994140625" data-test="textbox"><text direction="ltr" height="6" lengthadjust="spacingAndGlyphs" textlength="76.0479736328125" x="327.2530822753906" y="-445.4209899902344" data-test="textbox">Location: YVHS Pool</text></text></text></p><div><text class="_textbox_x434h_15" direction="ltr" height="6" lengthadjust="spacingAndGlyphs" textlength="135.4320068359375" x="327.2610778808594" y="-459.468994140625" data-test="textbox" style="color: rgb(26, 25, 24); font-family: AtlasGrotesk, -apple-system, &quot;system-ui&quot;, &quot;Segoe UI&quot;, Roboto, Oxygen, Ubuntu, Cantarell, &quot;Open Sans&quot;, &quot;Helvetica Neue&quot;, sans-serif; background-color: rgb(247, 245, 242); font-size: 8px;"><br></text></div><div><text class="_textbox_x434h_15" direction="ltr" height="6" lengthadjust="spacingAndGlyphs" textlength="76.0479736328125" x="327.2530822753906" y="-445.4209899902344" data-test="textbox" style="color: rgb(26, 25, 24); font-family: AtlasGrotesk, -apple-system, &quot;system-ui&quot;, &quot;Segoe UI&quot;, Roboto, Oxygen, Ubuntu, Cantarell, &quot;Open Sans&quot;, &quot;Helvetica Neue&quot;, sans-serif; background-color: rgb(247, 245, 242); font-size: 8px;"><br></text></div>
X-ALT-DESC;FMTTYPE=text/html:<p><text direction="ltr" height="6.75" lengthadjust="spacingAndGlyphs" textlength="188.8470458984375" x="322.9289855957031" y="-537.5250244140625" data-test="textbox">50 minutes sessions. Six divided lanes, max 3&nbsp;</text><text direction="ltr" height="6.75" lengthadjust="spacingAndGlyphs" textlength="209.78997802734375" x="322.79400634765625" y="-526.7250366210938" data-test="textbox">swimmers per lane. Lane sharing will be required&nbsp;</text><text direction="ltr" height="6.75" lengthadjust="spacingAndGlyphs" textlength="119.86199951171875" x="323.0369873046875" y="-515.925048828125" data-test="textbox">depending on attendance.&nbsp;$7 in person/ $4 online</text></p><p><text direction="ltr" height="6.75" lengthadjust="spacingAndGlyphs" textlength="119.86199951171875" x="323.0369873046875" y="-515.925048828125" data-test="textbox"><text direction="ltr" height="6" lengthadjust="spacingAndGlyphs" textlength="135.4320068359375" x="327.2610778808594" y="-459.468994140625" data-test="textbox">No PM Lap Swim Fridays 7/31 or 8/7</text></text></p><p><text direction="ltr" height="6.75" lengthadjust="spacingAndGlyphs" textlength="119.86199951171875" x="323.0369873046875" y="-515.925048828125" data-test="textbox"><text direction="ltr" height="6" lengthadjust="spacingAndGlyphs" textlength="135.4320068359375" x="327.2610778808594" y="-459.468994140625" data-test="textbox"><text direction="ltr" height="6" lengthadjust="spacingAndGlyphs" textlength="76.0479736328125" x="327.2530822753906" y="-445.4209899902344" data-test="textbox">Location: YVHS Pool</text></text></text></p><div><text class="_textbox_x434h_15" direction="ltr" height="6" lengthadjust="spacingAndGlyphs" textlength="135.4320068359375" x="327.2610778808594" y="-459.468994140625" data-test="textbox" style="color: rgb(26, 25, 24); font-family: AtlasGrotesk, -apple-system, &quot;system-ui&quot;, &quot;Segoe UI&quot;, Roboto, Oxygen, Ubuntu, Cantarell, &quot;Open Sans&quot;, &quot;Helvetica Neue&quot;, sans-serif; background-color: rgb(247, 245, 242); font-size: 8px;"><br></text></div><div><text class="_textbox_x434h_15" direction="ltr" height="6" lengthadjust="spacingAndGlyphs" textlength="76.0479736328125" x="327.2530822753906" y="-445.4209899902344" data-test="textbox" style="color: rgb(26, 25, 24); font-family: AtlasGrotesk, -apple-system, &quot;system-ui&quot;, &quot;Segoe UI&quot;, Roboto, Oxygen, Ubuntu, Cantarell, &quot;Open Sans&quot;, &quot;Helvetica Neue&quot;, sans-serif; background-color: rgb(247, 245, 242); font-size: 8px;"><br></text></div>
LOCATION:
CLASS:PUBLIC
END:VEVENT
END:VCALENDAR
