BEGIN:VCALENDAR
VERSION:2.0
PRODID:Yucca Valley, CA Calendar Creator
METHOD:PUBLISH
BEGIN:VEVENT
DTSTAMP:20260320T080655
DTSTART:20260729T120000
DTEND:20260729T140000
SUMMARY:Jr. Lifeguard Training- Session 2
DESCRIPTION:<p><text direction="ltr" height="6.75" lengthadjust="spacingAndGlyphs" textlength="229.93203735351562" x="322.7040100097656" y="-712.7963256835938" data-test="textbox">This 30-hour program introduces participants to basic&nbsp;</text><text direction="ltr" height="6.75" lengthadjust="spacingAndGlyphs" textlength="223.21804809570312" x="323.2439880371094" y="-701.996337890625" data-test="textbox">knowledge, physical conditioning, communication,&nbsp;</text><text direction="ltr" height="6.75" lengthadjust="spacingAndGlyphs" textlength="220.04107666015625" x="322.79400634765625" y="-691.1963500976562" data-test="textbox">skills, teamwork, and decision-making skills needed&nbsp;</text><text direction="ltr" height="6.75" lengthadjust="spacingAndGlyphs" textlength="230.4630126953125" x="322.9110107421875" y="-680.3963012695312" data-test="textbox">for entry to American Red Cross Lifeguarding Course.&nbsp;</text><text direction="ltr" height="6.75" lengthadjust="spacingAndGlyphs" textlength="224.96408081054688" x="323.3789978027344" y="-669.5963134765625" data-test="textbox">Requirements: 25 yd front crawl, 25 yd breast stroke,&nbsp;</text><text direction="ltr" height="6.56097412109375" lengthadjust="spacingAndGlyphs" textlength="142.38900756835938" x="323.3429870605469" y="-658.7963256835938" data-test="textbox">&amp; water competency sequence. $125 Ages 11-14</text></p><p><text direction="ltr" height="6.56097412109375" lengthadjust="spacingAndGlyphs" textlength="142.38900756835938" x="323.3429870605469" y="-658.7963256835938" data-test="textbox">&nbsp;Jr. Guards may join staff Friday, 8/7 for training</text></p><p><text direction="ltr" height="6.56097412109375" lengthadjust="spacingAndGlyphs" textlength="142.38900756835938" x="323.3429870605469" y="-658.7963256835938" data-test="textbox">&nbsp;<text direction="ltr" height="6" lengthadjust="spacingAndGlyphs" textlength="76.0479736328125" x="327.2610168457031" y="-574.34033203125" data-test="textbox">Location: YVHS Pool</text></text></p><div><text class="_textbox_x434h_15" direction="ltr" height="6" lengthadjust="spacingAndGlyphs" textlength="76.0479736328125" x="327.2610168457031" y="-574.34033203125" data-test="textbox" style="color: rgb(26, 25, 24); font-family: AtlasGrotesk, -apple-system, &quot;system-ui&quot;, &quot;Segoe UI&quot;, Roboto, Oxygen, Ubuntu, Cantarell, &quot;Open Sans&quot;, &quot;Helvetica Neue&quot;, sans-serif; background-color: rgb(247, 245, 242); font-size: 8px;"><br></text></div>
X-ALT-DESC;FMTTYPE=text/html:<p><text direction="ltr" height="6.75" lengthadjust="spacingAndGlyphs" textlength="229.93203735351562" x="322.7040100097656" y="-712.7963256835938" data-test="textbox">This 30-hour program introduces participants to basic&nbsp;</text><text direction="ltr" height="6.75" lengthadjust="spacingAndGlyphs" textlength="223.21804809570312" x="323.2439880371094" y="-701.996337890625" data-test="textbox">knowledge, physical conditioning, communication,&nbsp;</text><text direction="ltr" height="6.75" lengthadjust="spacingAndGlyphs" textlength="220.04107666015625" x="322.79400634765625" y="-691.1963500976562" data-test="textbox">skills, teamwork, and decision-making skills needed&nbsp;</text><text direction="ltr" height="6.75" lengthadjust="spacingAndGlyphs" textlength="230.4630126953125" x="322.9110107421875" y="-680.3963012695312" data-test="textbox">for entry to American Red Cross Lifeguarding Course.&nbsp;</text><text direction="ltr" height="6.75" lengthadjust="spacingAndGlyphs" textlength="224.96408081054688" x="323.3789978027344" y="-669.5963134765625" data-test="textbox">Requirements: 25 yd front crawl, 25 yd breast stroke,&nbsp;</text><text direction="ltr" height="6.56097412109375" lengthadjust="spacingAndGlyphs" textlength="142.38900756835938" x="323.3429870605469" y="-658.7963256835938" data-test="textbox">&amp; water competency sequence. $125 Ages 11-14</text></p><p><text direction="ltr" height="6.56097412109375" lengthadjust="spacingAndGlyphs" textlength="142.38900756835938" x="323.3429870605469" y="-658.7963256835938" data-test="textbox">&nbsp;Jr. Guards may join staff Friday, 8/7 for training</text></p><p><text direction="ltr" height="6.56097412109375" lengthadjust="spacingAndGlyphs" textlength="142.38900756835938" x="323.3429870605469" y="-658.7963256835938" data-test="textbox">&nbsp;<text direction="ltr" height="6" lengthadjust="spacingAndGlyphs" textlength="76.0479736328125" x="327.2610168457031" y="-574.34033203125" data-test="textbox">Location: YVHS Pool</text></text></p><div><text class="_textbox_x434h_15" direction="ltr" height="6" lengthadjust="spacingAndGlyphs" textlength="76.0479736328125" x="327.2610168457031" y="-574.34033203125" data-test="textbox" style="color: rgb(26, 25, 24); font-family: AtlasGrotesk, -apple-system, &quot;system-ui&quot;, &quot;Segoe UI&quot;, Roboto, Oxygen, Ubuntu, Cantarell, &quot;Open Sans&quot;, &quot;Helvetica Neue&quot;, sans-serif; background-color: rgb(247, 245, 242); font-size: 8px;"><br></text></div>
LOCATION:
CLASS:PUBLIC
END:VEVENT
END:VCALENDAR
