BEGIN:VCALENDAR
VERSION:2.0
PRODID:Yucca Valley, CA Calendar Creator
METHOD:PUBLISH
BEGIN:VEVENT
DTSTAMP:20260313T145147
DTSTART:20260610T173000
DTEND:20260610T183000
SUMMARY:Intro to Gymnastics
DESCRIPTION:<text direction="ltr" height="6.75" lengthadjust="spacingAndGlyphs" textlength="194.9940185546875" x="261.2481994628906" y="-673.7728271484375" data-test="textbox">Designed for beginners, this class emphasizes&nbsp;</text><text direction="ltr" height="6.8489990234375" lengthadjust="spacingAndGlyphs" textlength="212.88601684570312" x="260.9242248535156" y="-662.9728393554688" data-test="textbox">coordination, flexibility, rhythm, and body control&nbsp;</text><text direction="ltr" height="6.75" lengthadjust="spacingAndGlyphs" textlength="156.239990234375" x="260.501220703125" y="-652.1728515625" data-test="textbox">with a strong foundation in rhythmic&nbsp;</text><text direction="ltr" height="6.75" lengthadjust="spacingAndGlyphs" textlength="202.74301147460938" x="260.9062194824219" y="-641.372802734375" data-test="textbox">gymnastics-style movement through the use of&nbsp;</text><text direction="ltr" height="6.6240234375" lengthadjust="spacingAndGlyphs" textlength="211.07705688476562" x="260.9331970214844" y="-630.5728149414062" data-test="textbox">apparatus such as hoops, balls, balance beams,&nbsp;</text><text direction="ltr" height="6.75" lengthadjust="spacingAndGlyphs" textlength="202.20309448242188" x="260.9331970214844" y="-619.7728271484375" data-test="textbox">and ribbons that develops musicality, strength,&nbsp;</text><text direction="ltr" height="6.6240234375" lengthadjust="spacingAndGlyphs" textlength="48.31201171875" x="260.9331970214844" y="-608.9728393554688" data-test="textbox">and grace. Ages 5-7. Cost $12</text>
X-ALT-DESC;FMTTYPE=text/html:<text direction="ltr" height="6.75" lengthadjust="spacingAndGlyphs" textlength="194.9940185546875" x="261.2481994628906" y="-673.7728271484375" data-test="textbox">Designed for beginners, this class emphasizes&nbsp;</text><text direction="ltr" height="6.8489990234375" lengthadjust="spacingAndGlyphs" textlength="212.88601684570312" x="260.9242248535156" y="-662.9728393554688" data-test="textbox">coordination, flexibility, rhythm, and body control&nbsp;</text><text direction="ltr" height="6.75" lengthadjust="spacingAndGlyphs" textlength="156.239990234375" x="260.501220703125" y="-652.1728515625" data-test="textbox">with a strong foundation in rhythmic&nbsp;</text><text direction="ltr" height="6.75" lengthadjust="spacingAndGlyphs" textlength="202.74301147460938" x="260.9062194824219" y="-641.372802734375" data-test="textbox">gymnastics-style movement through the use of&nbsp;</text><text direction="ltr" height="6.6240234375" lengthadjust="spacingAndGlyphs" textlength="211.07705688476562" x="260.9331970214844" y="-630.5728149414062" data-test="textbox">apparatus such as hoops, balls, balance beams,&nbsp;</text><text direction="ltr" height="6.75" lengthadjust="spacingAndGlyphs" textlength="202.20309448242188" x="260.9331970214844" y="-619.7728271484375" data-test="textbox">and ribbons that develops musicality, strength,&nbsp;</text><text direction="ltr" height="6.6240234375" lengthadjust="spacingAndGlyphs" textlength="48.31201171875" x="260.9331970214844" y="-608.9728393554688" data-test="textbox">and grace. Ages 5-7. Cost $12</text>
LOCATION:Yucca Valley Community Center\, 57090 Twentynine Palms Hwy Yucca Valley\, California 92284
CLASS:PUBLIC
END:VEVENT
END:VCALENDAR
